BEGIN:VCALENDAR
VERSION:2.0
PRODID:-//SportsPilot + Diocese of Cleveland CYO/
METHOD:PUBLISH
BEGIN:VEVENT
UID:53420006
DTSTAMP:20260419T125500Z
SUMMARY: Game:53420006: Platinum - St. Angela Merici (Hagan) VS Platinum-Lakewood Catholic Academy (McManoman)
DESCRIPTION: Location: Luth / Lutheran West-Rock Gym
DTSTART:20200209T180000Z
DTEND:20200209T190000Z
END:VEVENT
END:VCALENDAR
